BEGIN:VCALENDAR
VERSION:2.0
PRODID:-//Art Experience Uruguay - ECPv6.15.20//NONSGML v1.0//EN
CALSCALE:GREGORIAN
METHOD:PUBLISH
X-ORIGINAL-URL:https://artexperienceuruguay.com
X-WR-CALDESC:Eventos para Art Experience Uruguay
REFRESH-INTERVAL;VALUE=DURATION:PT1H
X-Robots-Tag:noindex
X-PUBLISHED-TTL:PT1H
BEGIN:VTIMEZONE
TZID:America/Montevideo
BEGIN:STANDARD
TZOFFSETFROM:-0300
TZOFFSETTO:-0300
TZNAME:-03
DTSTART:20240101T000000
END:STANDARD
END:VTIMEZONE
BEGIN:VEVENT
DTSTART;TZID=America/Montevideo:20251106T190000
DTEND;TZID=America/Montevideo:20251106T210000
DTSTAMP:20260420T051839
CREATED:20251028T031433Z
LAST-MODIFIED:20251028T031433Z
UID:10000869-1762455600-1762462800@artexperienceuruguay.com
SUMMARY:NIDO DE RAMIRO COLINET
DESCRIPTION:Comparte esto:Compartir\n				Comparte en Facebook (Se abre en una ventana nueva)\n				Facebook\n			\n				Compartir en X (Se abre en una ventana nueva)\n				X\n			\n\n	Relacionado
URL:https://artexperienceuruguay.com/evento/nido-de-ramiro-colinet/
LOCATION:Fundación Verde Centro Cultural\, 18 de Julio 2017 esq. Pablo de Maria\, Montevideo\, Uruguay
CATEGORIES:Exposición,Inauguración
ATTACH;FMTTYPE=image/png:https://artexperienceuruguay.com/wp-content/uploads/2025/10/2-9.png
END:VEVENT
BEGIN:VEVENT
DTSTART;TZID=America/Montevideo:20251001T190000
DTEND;TZID=America/Montevideo:20251001T190000
DTSTAMP:20260420T051839
CREATED:20250929T204029Z
LAST-MODIFIED:20251001T021002Z
UID:10000069-1759345200-1759345200@artexperienceuruguay.com
SUMMARY:UN BUEN HOMBRE TOMÁS WÜRSCHMIDT
DESCRIPTION:UN BUEN HOMBRE \nTOMÁS WÜRSCHMIDT \nFUNDACIÓN VERDE \n18 de Julio 2017 esq. Pablo de María \n+ info \nhttps://www.instagram.com/tomaswur/ \nhttps://www.instagram.com/verdefundacionuy/ \nComparte esto:Compartir\n				Comparte en Facebook (Se abre en una ventana nueva)\n				Facebook\n			\n				Compartir en X (Se abre en una ventana nueva)\n				X\n			\n\n	Relacionado
URL:https://artexperienceuruguay.com/evento/un-buen-hombre-de-tomas-wurschmidt/
LOCATION:Fundación Verde Centro Cultural\, 18 de Julio 2017 esq. Pablo de Maria\, Montevideo\, Uruguay
CATEGORIES:Inauguración
ATTACH;FMTTYPE=image/png:https://artexperienceuruguay.com/wp-content/uploads/2025/09/15-4.png
END:VEVENT
END:VCALENDAR