BEGIN:VCALENDAR
VERSION:2.0
PRODID:-//Art Experience Uruguay - ECPv6.15.20//NONSGML v1.0//EN
CALSCALE:GREGORIAN
METHOD:PUBLISH
X-WR-CALNAME:Art Experience Uruguay
X-ORIGINAL-URL:https://artexperienceuruguay.com
X-WR-CALDESC:Eventos para Art Experience Uruguay
REFRESH-INTERVAL;VALUE=DURATION:PT1H
X-Robots-Tag:noindex
X-PUBLISHED-TTL:PT1H
BEGIN:VTIMEZONE
TZID:America/Montevideo
BEGIN:STANDARD
TZOFFSETFROM:-0300
TZOFFSETTO:-0300
TZNAME:-03
DTSTART:20250101T000000
END:STANDARD
END:VTIMEZONE
BEGIN:VEVENT
DTSTART;TZID=America/Montevideo:20260317T150000
DTEND;TZID=America/Montevideo:20260317T183000
DTSTAMP:20260422T135410
CREATED:20260223T155041Z
LAST-MODIFIED:20260224T135637Z
UID:10002388-1773759600-1773772200@artexperienceuruguay.com
SUMMARY:TALLER DE INVESTIGACIÓN / PERFORMANCE Y GÉNERO / PERSPECTIVAS CRUZADAS
DESCRIPTION:El Centro Franco-Uruguayo de Altos Estudios de la Universidad de la República (CFU) es un centro de investigación en el dominio de las Humanidades\, las Ciencias Sociales y el Arte\, destinado al conjunto de las áreas y facultades de UdelaR. Se desarrolla con el respaldo de los servicios internacionales de la UdelaR y de los servicios culturales de la Embajada de Francia. En la Udelar es la primera vez que existe un centro mixto. Así pues\, el CFU se constituye a través de esta doble identidad\, fruto de la cooperación entre ambos países\, que lo dota de una integración orgánica bi-nacional de particular originalidad. \nSan Salvador 1944 \nhttps://www.fic.edu.uy/index.php/ \nComparte esto:Compartir\n				Comparte en Facebook (Se abre en una ventana nueva)\n				Facebook\n			\n				Compartir en X (Se abre en una ventana nueva)\n				X\n			\n\n	Relacionado
URL:https://artexperienceuruguay.com/evento/taller-de-investigacion-performance-y-genero-perspectivas-cruzadas-4/
LOCATION:FIC\, San Salvador 1944\, MONTEVIDEO\, Uruguay
CATEGORIES:Taller
ATTACH;FMTTYPE=image/png:https://artexperienceuruguay.com/wp-content/uploads/2026/02/4-2.png
END:VEVENT
BEGIN:VEVENT
DTSTART;TZID=America/Montevideo:20260310T150000
DTEND;TZID=America/Montevideo:20260310T183000
DTSTAMP:20260422T135410
CREATED:20260223T154955Z
LAST-MODIFIED:20260225T012826Z
UID:10002387-1773154800-1773167400@artexperienceuruguay.com
SUMMARY:TALLER DE INVESTIGACIÓN / PERFORMANCE Y GÉNERO / PERSPECTIVAS CRUZADAS
DESCRIPTION:El Centro Franco-Uruguayo de Altos Estudios de la Universidad de la República (CFU) es un centro de investigación en el dominio de las Humanidades\, las Ciencias Sociales y el Arte\, destinado al conjunto de las áreas y facultades de UdelaR. Se desarrolla con el respaldo de los servicios internacionales de la UdelaR y de los servicios culturales de la Embajada de Francia. En la Udelar es la primera vez que existe un centro mixto. Así pues\, el CFU se constituye a través de esta doble identidad\, fruto de la cooperación entre ambos países\, que lo dota de una integración orgánica bi-nacional de particular originalidad. \nSan Salvador 1944 \nhttps://www.fic.edu.uy/index.php/ \nComparte esto:Compartir\n				Comparte en Facebook (Se abre en una ventana nueva)\n				Facebook\n			\n				Compartir en X (Se abre en una ventana nueva)\n				X\n			\n\n	Relacionado
URL:https://artexperienceuruguay.com/evento/taller-de-investigacion-performance-y-genero-perspectivas-cruzadas-3/
LOCATION:FIC\, San Salvador 1944\, MONTEVIDEO\, Uruguay
CATEGORIES:Taller
ATTACH;FMTTYPE=image/png:https://artexperienceuruguay.com/wp-content/uploads/2026/02/4-2.png
END:VEVENT
BEGIN:VEVENT
DTSTART;TZID=America/Montevideo:20260303T150000
DTEND;TZID=America/Montevideo:20260303T183000
DTSTAMP:20260422T135410
CREATED:20260223T154735Z
LAST-MODIFIED:20260224T135422Z
UID:10002385-1772550000-1772562600@artexperienceuruguay.com
SUMMARY:TALLER DE INVESTIGACIÓN / PERFORMANCE Y GÉNERO / PERSPECTIVAS CRUZADAS
DESCRIPTION:El Centro Franco-Uruguayo de Altos Estudios de la Universidad de la República (CFU) es un centro de investigación en el dominio de las Humanidades\, las Ciencias Sociales y el Arte\, destinado al conjunto de las áreas y facultades de UdelaR. Se desarrolla con el respaldo de los servicios internacionales de la UdelaR y de los servicios culturales de la Embajada de Francia. En la Udelar es la primera vez que existe un centro mixto. Así pues\, el CFU se constituye a través de esta doble identidad\, fruto de la cooperación entre ambos países\, que lo dota de una integración orgánica bi-nacional de particular originalidad. \nSan Salvador 1944 \nhttps://www.fic.edu.uy/index.php/ \nComparte esto:Compartir\n				Comparte en Facebook (Se abre en una ventana nueva)\n				Facebook\n			\n				Compartir en X (Se abre en una ventana nueva)\n				X\n			\n\n	Relacionado
URL:https://artexperienceuruguay.com/evento/taller-de-investigacion-performance-y-genero-perspectivas-cruzadas-2/
LOCATION:FIC\, San Salvador 1944\, MONTEVIDEO\, Uruguay
CATEGORIES:Taller
ATTACH;FMTTYPE=image/png:https://artexperienceuruguay.com/wp-content/uploads/2026/02/4-2.png
END:VEVENT
BEGIN:VEVENT
DTSTART;TZID=America/Montevideo:20260224T150000
DTEND;TZID=America/Montevideo:20260224T183000
DTSTAMP:20260422T135410
CREATED:20260223T153712Z
LAST-MODIFIED:20260224T180842Z
UID:10002382-1771945200-1771957800@artexperienceuruguay.com
SUMMARY:TALLER DE INVESTIGACIÓN / PERFORMANCE Y GÉNERO / PERSPECTIVAS CRUZADAS
DESCRIPTION:El Centro Franco-Uruguayo de Altos Estudios de la Universidad de la República (CFU) es un centro de investigación en el dominio de las Humanidades\, las Ciencias Sociales y el Arte\, destinado al conjunto de las áreas y facultades de UdelaR. Se desarrolla con el respaldo de los servicios internacionales de la UdelaR y de los servicios culturales de la Embajada de Francia. En la Udelar es la primera vez que existe un centro mixto. Así pues\, el CFU se constituye a través de esta doble identidad\, fruto de la cooperación entre ambos países\, que lo dota de una integración orgánica bi-nacional de particular originalidad. \nSan Salvador 1944 \nhttps://www.fic.edu.uy/index.php/ \nComparte esto:Compartir\n				Comparte en Facebook (Se abre en una ventana nueva)\n				Facebook\n			\n				Compartir en X (Se abre en una ventana nueva)\n				X\n			\n\n	Relacionado
URL:https://artexperienceuruguay.com/evento/taller-de-investigacion-performance-y-genero-perspectivas-cruzadas/
LOCATION:FIC\, San Salvador 1944\, MONTEVIDEO\, Uruguay
CATEGORIES:Taller
ATTACH;FMTTYPE=image/png:https://artexperienceuruguay.com/wp-content/uploads/2026/02/4-2.png
END:VEVENT
END:VCALENDAR