BEGIN:VCALENDAR
VERSION:2.0
PRODID:-//Art Experience Uruguay - ECPv6.15.20//NONSGML v1.0//EN
CALSCALE:GREGORIAN
METHOD:PUBLISH
X-WR-CALNAME:Art Experience Uruguay
X-ORIGINAL-URL:https://artexperienceuruguay.com
X-WR-CALDESC:Eventos para Art Experience Uruguay
REFRESH-INTERVAL;VALUE=DURATION:PT1H
X-Robots-Tag:noindex
X-PUBLISHED-TTL:PT1H
BEGIN:VTIMEZONE
TZID:America/Montevideo
BEGIN:STANDARD
TZOFFSETFROM:-0300
TZOFFSETTO:-0300
TZNAME:-03
DTSTART:20250101T000000
END:STANDARD
END:VTIMEZONE
BEGIN:VEVENT
DTSTART;VALUE=DATE:20260105
DTEND;VALUE=DATE:20260301
DTSTAMP:20260420T064359
CREATED:20260114T035413Z
LAST-MODIFIED:20260114T035532Z
UID:10001280-1767571200-1772323199@artexperienceuruguay.com
SUMMARY:VERANO 2026 - TALLERES PARA NIÑOS - CASABLANCA
DESCRIPTION:TALLERES de VERANO \nMartes y miércoles de 14:30 a 18:00hs\nTaller de artes plásticas\, taller de música y piscina \nEl gran jardín de Casablanca y la piscina se disfrutan en verano con los niños de los talleres.\nUna propuesta para incentivar\, motivar y volcar toda la creatividad. Cuando los niños están de vacaciones es el momento ideal para introducirlos en las artes\, poder experimentar y aprender de manera lúdica.\nLuego de los talleres estará la piscina para refrescarse y jugar. \nUn ambiente hogareño\, artístico\, cuidados y atendidos \n📋 cupo limitado a 25 niños \nComparte esto:Compartir\n				Comparte en Facebook (Se abre en una ventana nueva)\n				Facebook\n			\n				Compartir en X (Se abre en una ventana nueva)\n				X\n			\n\n	Relacionado
URL:https://artexperienceuruguay.com/evento/verano-2026-talleres-para-ninos-casablanca/
LOCATION:Casablanca\, Acosta y Lara 7329 esq. Gral. French\, Montevideo\, Uruguay
CATEGORIES:Para chicos
ATTACH;FMTTYPE=image/png:https://artexperienceuruguay.com/wp-content/uploads/2026/01/Capture-decran-2026-01-14-a-12.51.07-AM.png
END:VEVENT
END:VCALENDAR