BEGIN:VCALENDAR
VERSION:2.0
PRODID:-//Art Experience Uruguay - ECPv6.15.20//NONSGML v1.0//EN
CALSCALE:GREGORIAN
METHOD:PUBLISH
X-WR-CALNAME:Art Experience Uruguay
X-ORIGINAL-URL:https://artexperienceuruguay.com
X-WR-CALDESC:Eventos para Art Experience Uruguay
REFRESH-INTERVAL;VALUE=DURATION:PT1H
X-Robots-Tag:noindex
X-PUBLISHED-TTL:PT1H
BEGIN:VTIMEZONE
TZID:America/Montevideo
BEGIN:STANDARD
TZOFFSETFROM:-0300
TZOFFSETTO:-0300
TZNAME:-03
DTSTART:20250101T000000
END:STANDARD
END:VTIMEZONE
BEGIN:VEVENT
DTSTART;TZID=America/Montevideo:20260116T193000
DTEND;TZID=America/Montevideo:20260116T220000
DTSTAMP:20260420T150757
CREATED:20260110T024408Z
LAST-MODIFIED:20260110T024451Z
UID:10001267-1768591800-1768600800@artexperienceuruguay.com
SUMMARY:PDE EDIT.01 - EXPOSICIÓN COLECTIVA - GALERIA AZUR
DESCRIPTION:PDE – Edit.01 Es la primera muestra colectiva del pop-up de Galería Azur en Manantiales. Reúne una selección de artistas que conviven entre distintos recorridos y momentos de la práctica contemporánea\, en línea con la dinámica que impulsa la galería:\ndar visibilidad tanto a artistas consagrados que forman parte de nuestra trastienda\, como a voces emergentes que encuentran en nuestras muestras un espacio de proyección y diálogo. \nExhibición: 13–22 de enero \nEncuentro & cocktail:\n16/01 · 19.30–22hs \nARTISTAS:\n@ale_insfranb @aniarcuri_artetextil @antobotti_ @matosalbers @danielaachoyan @ethellissmann @florentinafischer @sculptures_videla @ingridschneeberger1 @janinealtman @anzizar @ramirocolinet @kdelsavio @haas.arte @mariatorrendell @mikael_boudakian_art @santiagogarciaartist @serranaferres.art @victoriamuniagurria
URL:https://artexperienceuruguay.com/evento/15798/
LOCATION:GALERIA AZUR Punta del Este / Manantiales\, Los Guaviyú entre José Ignacio y El Eden\, Manantiales
CATEGORIES:Inauguración
ATTACH;FMTTYPE=image/png:https://artexperienceuruguay.com/wp-content/uploads/2026/01/33-5.png
END:VEVENT
BEGIN:VEVENT
DTSTART;TZID=America/Montevideo:20260117T180000
DTEND;TZID=America/Montevideo:20260117T190000
DTSTAMP:20260420T150757
CREATED:20260207T165744Z
LAST-MODIFIED:20260320T023720Z
UID:10007024-1768672800-1768676400@artexperienceuruguay.com
SUMMARY:VISITAS GUIADAS / ANA SEGOVIA. The Office of Inter-American Affairs Presents: Uruguay
DESCRIPTION:Viernes y sábados\, 18:00.\nActividad gratuita. No requiere inscripción previa. \nTodas las semanas ofrecemos un programa de visitas mediadas a cargo de la curadora Camila Arbeláez. La visita propone una lectura de la práctica artística de Ana Segovia (Ciudad de México\, 1991) y del proceso de creación de esta exposición concebida especialmente para FCM\, que combina pintura\, instalación y performance. La muestra revisa críticamente cómo se construyen ciertos imaginarios en torno a la identidad nacional\, el género y la masculinidad.
URL:https://artexperienceuruguay.com/evento/visitas-guiadas-ana-segovia-the-office-of-inter-american-affairs-presents-uruguay/2026-01-17/
LOCATION:FUNDACIÓN CERVIERI MONSUÁREZ\, Eugenio Sainz Martínez esq. Los Cisnes\, JOSÉ IGNACIO\, Uruguay
CATEGORIES:Visita guiada
ATTACH;FMTTYPE=image/png:https://artexperienceuruguay.com/wp-content/uploads/2026/02/19.png
END:VEVENT
BEGIN:VEVENT
DTSTART;TZID=America/Montevideo:20260117T180000
DTEND;TZID=America/Montevideo:20260117T200000
DTSTAMP:20260420T150757
CREATED:20260114T034702Z
LAST-MODIFIED:20260114T034702Z
UID:10001278-1768672800-1768680000@artexperienceuruguay.com
SUMMARY:CREANDO ASTROSERES - TALLER DE ARTES PARA NIÑOS - MUSEO RALLI
DESCRIPTION:
URL:https://artexperienceuruguay.com/evento/creando-astroseres-taller-de-artes-para-ninos-museo-ralli/
LOCATION:MUSEO RALLI\, Calle Los Arayanes s/n\, barrio Beverly Hills\, Punta del Este\, Uruguay
CATEGORIES:Para chicos
ATTACH;FMTTYPE=image/png:https://artexperienceuruguay.com/wp-content/uploads/2026/01/43.png
END:VEVENT
BEGIN:VEVENT
DTSTART;TZID=America/Montevideo:20260117T190000
DTEND;TZID=America/Montevideo:20260117T210000
DTSTAMP:20260420T150758
CREATED:20260104T194536Z
LAST-MODIFIED:20260105T185900Z
UID:10001219-1768676400-1768683600@artexperienceuruguay.com
SUMMARY:COLOR\, AMOR Y CREATIVIDAD - DAPHNE ANASTASSIOU - MUSEO RALLI
DESCRIPTION:
URL:https://artexperienceuruguay.com/evento/color-amor-y-creatividad-daphne-anastassiou-museo-ralli/
LOCATION:MUSEO RALLI\, Calle Los Arayanes s/n\, barrio Beverly Hills\, Punta del Este\, Uruguay
CATEGORIES:Inauguración
ATTACH;FMTTYPE=image/png:https://artexperienceuruguay.com/wp-content/uploads/2026/01/27.png
END:VEVENT
BEGIN:VEVENT
DTSTART;TZID=America/Montevideo:20260117T190000
DTEND;TZID=America/Montevideo:20260117T210000
DTSTAMP:20260420T150758
CREATED:20260113T230912Z
LAST-MODIFIED:20260113T230912Z
UID:10001271-1768676400-1768683600@artexperienceuruguay.com
SUMMARY:GIRL DINNER - EXPOSICIÓN COLECTIVA - GALERIA CIELO
DESCRIPTION:Una economía del vacío. \nCuando la escasez se vuelve gesto\,organizar significantes importa más que nutrir el cuerpo y la renuncia se estetiza. \n“Es un sacrificio a una idea de la feminidad que tiene que ver con la adecuación a lo armonioso: todas las girl dinner son esculturas ingeniosas de la escasez” @anaguebel \nGIRL DINNER toma una categoría canonizada por internet y la lleva al territorio de lo escultórico\, lo cotidiano y lo simbólico. Comida que no alimenta\, imágenes que sí dicen. La exageración como conciencia. La feminidad como construcción\, disciplina y deseo. \nArtistas:\n@anitafurlong\n@cassianafp\n@manolaaramburu\n@emiliana_rat\n@86.others\n@azulgattas \n@ CIELO\nSábado 17 de enero\n19 h \nAfter con @lagalerilla & @yozy2k
URL:https://artexperienceuruguay.com/evento/girl-dinner-exposicion-colectiva-galeria-cielo/
LOCATION:Maldonado
CATEGORIES:Inauguración
ATTACH;FMTTYPE=image/png:https://artexperienceuruguay.com/wp-content/uploads/2026/01/39-1.png
END:VEVENT
BEGIN:VEVENT
DTSTART;VALUE=DATE:20260120
DTEND;VALUE=DATE:20260121
DTSTAMP:20260420T150758
CREATED:20251216T012959Z
LAST-MODIFIED:20251216T013038Z
UID:10001109-1768867200-1768953599@artexperienceuruguay.com
SUMMARY:OPEN CALL SAE #2026
DESCRIPTION:OPEN CALL 2026 \nAnunciamos con entusiasmo la apertura para aplicar a las ediciones #11\, #12 y #13 de las residencias latinoamericanas SAE 2026! \n🗓️Edición #11: 4 de abril al 6 de mayo \n🗓️Edición #12: 11 de agosto al 8 de septiembre \n🗓️Edición #13: 30 de septiembre al 28 de octubre \nSe aceptarán solicitudes de artistas visuales de trayectoria intermedia\, radicados en países latinoamericanos (incluido Uruguay) y del caribe\, para residir por el período de 1 mes en SAE\, Punta del Este (Uruguay) \n✅La residencia ofrece traslado\, hospedaje\, alimentación y un fee de U$D 1000 más acompañamiento profesional en el desarrollo de proyectos. \n⏱ ️Aceptación solicitudes hasta el 20 de enero de 2026 inclusive. \nSAE Open Call Bases: https://drive.google.com/file/d/1TsYxhmdLpEck4bm8JSQElRXsRmCow4U1/view \nSAE formulario: https://docs.google.com/forms/d/e/1FAIpQLScZb0PpR6O0BcO6TMTWBmUPVdDWgATCok4cedT2tnonQRm7MQ/viewform?usp=send_form
URL:https://artexperienceuruguay.com/evento/open-call-sae-2026/
LOCATION:SOLANAS ART EXPERIENCE – SAE\, PUNTA BALLENA\, Uruguay
CATEGORIES:Convocatorias
ATTACH;FMTTYPE=image/png:https://artexperienceuruguay.com/wp-content/uploads/2025/12/imagenes-editadas-para-subir-712-1.png
END:VEVENT
BEGIN:VEVENT
DTSTART;TZID=America/Montevideo:20260120T190000
DTEND;TZID=America/Montevideo:20260120T223000
DTSTAMP:20260420T150758
CREATED:20260122T153123Z
LAST-MODIFIED:20260122T153123Z
UID:10001288-1768935600-1768948200@artexperienceuruguay.com
SUMMARY:Karina Battat / Gaby Grodzielski / Cecilia Joaquin en UNIÓN ATELIER
DESCRIPTION:
URL:https://artexperienceuruguay.com/evento/karina-battat-gaby-grodzielski-cecilia-joaquin-en-union-atelier/
LOCATION:Unión Atelier\, 10 y Duende Azul\, La Barra\, Uruguay
CATEGORIES:Inauguración
ATTACH;FMTTYPE=image/png:https://artexperienceuruguay.com/wp-content/uploads/2026/01/1.png
END:VEVENT
BEGIN:VEVENT
DTSTART;TZID=America/Montevideo:20260121T000000
DTEND;TZID=America/Montevideo:20260208T003000
DTSTAMP:20260420T150758
CREATED:20260122T153345Z
LAST-MODIFIED:20260122T153345Z
UID:10001289-1768953600-1770510600@artexperienceuruguay.com
SUMMARY:Karina Battat / Gaby Grodzielski / Cecilia Joaquin en UNIÓN ATELIER
DESCRIPTION:
URL:https://artexperienceuruguay.com/evento/karina-battat-gaby-grodzielski-cecilia-joaquin-en-union-atelier-2/
LOCATION:Unión Atelier\, 10 y Duende Azul\, La Barra\, Uruguay
CATEGORIES:Exposición
ATTACH;FMTTYPE=image/png:https://artexperienceuruguay.com/wp-content/uploads/2026/01/1.png
END:VEVENT
BEGIN:VEVENT
DTSTART;TZID=America/Montevideo:20260122T180000
DTEND;TZID=America/Montevideo:20260122T210000
DTSTAMP:20260420T150758
CREATED:20260122T203900Z
LAST-MODIFIED:20260122T210234Z
UID:10001290-1769104800-1769115600@artexperienceuruguay.com
SUMMARY:CarnaVal / WIKI PIRELA (Venezuela) y NOVÍSSIMO EDGAR (Brasil)
DESCRIPTION:
URL:https://artexperienceuruguay.com/evento/carnaval-wiki-pirela-venezuela-y-novissimo-edgar-brasil/
LOCATION:TOMAS REDRADO ART\, Cruz del Sur 438\, 20000 Arenas de José Ignacio\, José Ignacio\, Uruguay
CATEGORIES:Inauguración
ATTACH;FMTTYPE=image/png:https://artexperienceuruguay.com/wp-content/uploads/2026/01/2.png
END:VEVENT
BEGIN:VEVENT
DTSTART;TZID=America/Montevideo:20260122T203000
DTEND;TZID=America/Montevideo:20260122T230000
DTSTAMP:20260420T150758
CREATED:20260122T223511Z
LAST-MODIFIED:20260122T223511Z
UID:10001300-1769113800-1769122800@artexperienceuruguay.com
SUMMARY:APERTURA DEL TALLER ENRIQUETA AGUILÓ
DESCRIPTION:
URL:https://artexperienceuruguay.com/evento/apertura-del-taller-enriqueta-aguilo/
LOCATION:TALLER ENRIQUETA AGUILÓ\, P. Campbell y L. Rosa\, LA BARRA\, Uruguay
CATEGORIES:Inauguración
ATTACH;FMTTYPE=image/jpeg:https://artexperienceuruguay.com/wp-content/uploads/2026/01/Designer-1.jpg
END:VEVENT
BEGIN:VEVENT
DTSTART;VALUE=DATE:20260123
DTEND;VALUE=DATE:20260130
DTSTAMP:20260420T150758
CREATED:20260114T035921Z
LAST-MODIFIED:20260114T040057Z
UID:10001281-1769126400-1769731199@artexperienceuruguay.com
SUMMARY:CORTE! TALLER DE CINE DE JIIFF
DESCRIPTION:¡CORTE! 2026 | Se abren oficialmente las inscripciones para el taller de cine de JIIFF\, dirigido a chicos/as entre 8 y 18 años. \nDel 23 al 29 de enero\, en paralelo a las funciones y actividades de la 16ta edición de JIIFF\, se realiza este laboratorio de cine en el que los estudiantes aprenden a filmar un cortometraje que luego es exhibido en la pantalla del festival. \n¡Corte! se da en tres grupos divididos según las edades de los alumnos\, y cada grupo tiene profesores y un enfoque específico. \nKIDS – Para niños/as de 8 a 11 años‍\nFILM LAB – Para adolescentes de 11 a 14 años\n‍FILM LAB +15 – Para preuniversitarios/as de 15 a 18 años \nDe forma lúdica y a través de la experimentación se trabajan las distintas etapas que integran el proceso de realización: investigación\, creatividad\, desarrollo\, escritura de guion\, rodaje\, edición\, post producción y proyección. \nEn esta edición\, ¡Corte! profundiza su enfoque en la dirección de actores y el entrenamiento corporal\, combinando instancias de exploración física\, ejercicios teatrales y trabajo frente a cámara. \nPara cerrar el taller\, los cortos realizados por los alumnos se estrenan en la misma pantalla donde se exhiben las películas y cortometrajes programados en JIIFF\, en una instancia especial para que puedan disfrutarlo junto a sus familias e invitados. \nInscripciones abiertas. ¡Cupos limitados!\nMás información en http://www.joseignaciofilmfestival.com \nContacto corte@joseignaciofilmfestival.com
URL:https://artexperienceuruguay.com/evento/corte-taller-de-cine-de-jiiff/
LOCATION:Maldonado
CATEGORIES:Para chicos
ATTACH;FMTTYPE=image/png:https://artexperienceuruguay.com/wp-content/uploads/2026/01/Capture-decran-2026-01-14-a-12.55.53-AM.png
END:VEVENT
BEGIN:VEVENT
DTSTART;TZID=America/Montevideo:20260123T000000
DTEND;TZID=America/Montevideo:20260203T000000
DTSTAMP:20260420T150758
CREATED:20260122T204129Z
LAST-MODIFIED:20260122T204129Z
UID:10001291-1769126400-1770076800@artexperienceuruguay.com
SUMMARY:CarnaVal / Wiki Pirela (Venezuela) y Novíssimo Edgar (Brasil)
DESCRIPTION:
URL:https://artexperienceuruguay.com/evento/carnaval-wiki-pirela-venezuela-y-novissimo-edgar-brasil-2/
LOCATION:TOMAS REDRADO ART\, Cruz del Sur 438\, 20000 Arenas de José Ignacio\, José Ignacio\, Uruguay
CATEGORIES:Exposición
ATTACH;FMTTYPE=image/png:https://artexperienceuruguay.com/wp-content/uploads/2026/01/2.png
END:VEVENT
BEGIN:VEVENT
DTSTART;TZID=America/Montevideo:20260123T180000
DTEND;TZID=America/Montevideo:20260123T190000
DTSTAMP:20260420T150758
CREATED:20260207T165744Z
LAST-MODIFIED:20260320T023720Z
UID:10007025-1769191200-1769194800@artexperienceuruguay.com
SUMMARY:VISITAS GUIADAS / ANA SEGOVIA. The Office of Inter-American Affairs Presents: Uruguay
DESCRIPTION:Viernes y sábados\, 18:00.\nActividad gratuita. No requiere inscripción previa. \nTodas las semanas ofrecemos un programa de visitas mediadas a cargo de la curadora Camila Arbeláez. La visita propone una lectura de la práctica artística de Ana Segovia (Ciudad de México\, 1991) y del proceso de creación de esta exposición concebida especialmente para FCM\, que combina pintura\, instalación y performance. La muestra revisa críticamente cómo se construyen ciertos imaginarios en torno a la identidad nacional\, el género y la masculinidad.
URL:https://artexperienceuruguay.com/evento/visitas-guiadas-ana-segovia-the-office-of-inter-american-affairs-presents-uruguay/2026-01-23/
LOCATION:FUNDACIÓN CERVIERI MONSUÁREZ\, Eugenio Sainz Martínez esq. Los Cisnes\, JOSÉ IGNACIO\, Uruguay
CATEGORIES:Visita guiada
ATTACH;FMTTYPE=image/png:https://artexperienceuruguay.com/wp-content/uploads/2026/02/19.png
END:VEVENT
BEGIN:VEVENT
DTSTART;TZID=America/Montevideo:20260123T180000
DTEND;TZID=America/Montevideo:20260123T213000
DTSTAMP:20260420T150758
CREATED:20260122T210015Z
LAST-MODIFIED:20260122T210015Z
UID:10001293-1769191200-1769203800@artexperienceuruguay.com
SUMMARY:LEONORA CARRINGTON / COLOQUIO A CARGO DE BETTINA PAZ / MICROPOLÍTICAS DEL DESEO
DESCRIPTION:
URL:https://artexperienceuruguay.com/evento/leonora-carrington-coloquio-a-cargo-de-bettina-paz-micropoliticas-del-deseo/
LOCATION:FUNDACIÓN MANOLO LIMA\, PARADA 30 PLAYA MANSA\, PUNTA DEL ESTE\, Uruguay
CATEGORIES:Conversatorio
ATTACH;FMTTYPE=image/png:https://artexperienceuruguay.com/wp-content/uploads/2026/01/5.png
END:VEVENT
BEGIN:VEVENT
DTSTART;TZID=America/Montevideo:20260123T190000
DTEND;TZID=America/Montevideo:20260123T233000
DTSTAMP:20260420T150758
CREATED:20260122T204904Z
LAST-MODIFIED:20260122T205235Z
UID:10001292-1769194800-1769211000@artexperienceuruguay.com
SUMMARY:LO NÍTIDO MIENTE / FLOR APRILE
DESCRIPTION:Pop-Up de Muestras de Arte
URL:https://artexperienceuruguay.com/evento/lo-nitido-miente-flor-aprile/
LOCATION:ESPACIO AUTOMÓVILES\, PUEBLO GARZÓN\, Uruguay
CATEGORIES:Inauguración
ATTACH;FMTTYPE=image/png:https://artexperienceuruguay.com/wp-content/uploads/2026/01/4.png
END:VEVENT
BEGIN:VEVENT
DTSTART;TZID=America/Montevideo:20260123T200000
DTEND;TZID=America/Montevideo:20260123T213000
DTSTAMP:20260420T150758
CREATED:20260122T210747Z
LAST-MODIFIED:20260122T210747Z
UID:10001294-1769198400-1769203800@artexperienceuruguay.com
SUMMARY:OSVALDO LEITE / ARTISTA DE DOS MUNDOS / PRESENTACIÓN DE LIBRO POR ENRIQUE AGUERRE
DESCRIPTION:
URL:https://artexperienceuruguay.com/evento/osvaldo-leite-artista-de-dos-mundos-presentacion-de-libro-por-enrique-aguerre/
LOCATION:FUNDACIÓN MANOLO LIMA\, PARADA 30 PLAYA MANSA\, PUNTA DEL ESTE\, Uruguay
CATEGORIES:Lanzamiento de libro
ATTACH;FMTTYPE=image/png:https://artexperienceuruguay.com/wp-content/uploads/2026/01/6.png
END:VEVENT
BEGIN:VEVENT
DTSTART;VALUE=DATE:20260124
DTEND;VALUE=DATE:20260201
DTSTAMP:20260420T150758
CREATED:20260123T170227Z
LAST-MODIFIED:20260123T170227Z
UID:10001314-1769212800-1769903999@artexperienceuruguay.com
SUMMARY:PRE-INSCRIPCIONES / TALLER DE LUCÍA PITTALUGA
DESCRIPTION:MÁS INFO: \nhttps://www.instagram.com/_latallera_/
URL:https://artexperienceuruguay.com/evento/pre-inscripciones-taller-de-lucia-pittaluga/
LOCATION:Maldonado
CATEGORIES:Formación
ATTACH;FMTTYPE=image/png:https://artexperienceuruguay.com/wp-content/uploads/2026/01/23.png
END:VEVENT
BEGIN:VEVENT
DTSTART;TZID=America/Montevideo:20260124T000000
DTEND;TZID=America/Montevideo:20260201T000000
DTSTAMP:20260420T150758
CREATED:20260123T151953Z
LAST-MODIFIED:20260123T151953Z
UID:10001311-1769212800-1769904000@artexperienceuruguay.com
SUMMARY:JOSÉ IGNACIO INTERNATIONAL FILM FESTIVAL
DESCRIPTION:MÁS INFO: \nhttps://www.instagram.com/jiiff_festival/
URL:https://artexperienceuruguay.com/evento/jose-ignacio-international-film-festival/
LOCATION:Maldonado
CATEGORIES:Festival
ATTACH;FMTTYPE=image/png:https://artexperienceuruguay.com/wp-content/uploads/2026/01/24.png
END:VEVENT
BEGIN:VEVENT
DTSTART;TZID=America/Montevideo:20260124T150000
DTEND;TZID=America/Montevideo:20260228T190000
DTSTAMP:20260420T150758
CREATED:20260123T042156Z
LAST-MODIFIED:20260123T042629Z
UID:10001309-1769266800-1772305200@artexperienceuruguay.com
SUMMARY:LA MILONGA ES HIJA DEL CANDOMBE ASÍ COMO EL TANGO ES HIJO DE LA MILONGA
DESCRIPTION:
URL:https://artexperienceuruguay.com/evento/la-milonga-es-hija-del-candombe-asi-como-el-tango-es-hijo-de-la-milonga/
LOCATION:MUART\, 25 de mayo 163
CATEGORIES:Exposición
ATTACH;FMTTYPE=image/png:https://artexperienceuruguay.com/wp-content/uploads/2026/01/4-1.png
END:VEVENT
BEGIN:VEVENT
DTSTART;TZID=America/Montevideo:20260124T180000
DTEND;TZID=America/Montevideo:20260124T190000
DTSTAMP:20260420T150758
CREATED:20260207T165744Z
LAST-MODIFIED:20260320T023720Z
UID:10007026-1769277600-1769281200@artexperienceuruguay.com
SUMMARY:VISITAS GUIADAS / ANA SEGOVIA. The Office of Inter-American Affairs Presents: Uruguay
DESCRIPTION:Viernes y sábados\, 18:00.\nActividad gratuita. No requiere inscripción previa. \nTodas las semanas ofrecemos un programa de visitas mediadas a cargo de la curadora Camila Arbeláez. La visita propone una lectura de la práctica artística de Ana Segovia (Ciudad de México\, 1991) y del proceso de creación de esta exposición concebida especialmente para FCM\, que combina pintura\, instalación y performance. La muestra revisa críticamente cómo se construyen ciertos imaginarios en torno a la identidad nacional\, el género y la masculinidad.
URL:https://artexperienceuruguay.com/evento/visitas-guiadas-ana-segovia-the-office-of-inter-american-affairs-presents-uruguay/2026-01-24/
LOCATION:FUNDACIÓN CERVIERI MONSUÁREZ\, Eugenio Sainz Martínez esq. Los Cisnes\, JOSÉ IGNACIO\, Uruguay
CATEGORIES:Visita guiada
ATTACH;FMTTYPE=image/png:https://artexperienceuruguay.com/wp-content/uploads/2026/02/19.png
END:VEVENT
BEGIN:VEVENT
DTSTART;TZID=America/Montevideo:20260124T180000
DTEND;TZID=America/Montevideo:20260124T210000
DTSTAMP:20260420T150758
CREATED:20260122T225041Z
LAST-MODIFIED:20260122T225041Z
UID:10001301-1769277600-1769288400@artexperienceuruguay.com
SUMMARY:CAMINATOUR / PARQUE MAUÁ
DESCRIPTION:
URL:https://artexperienceuruguay.com/evento/caminatour-parque-maua/
LOCATION:Maldonado
CATEGORIES:Visita guiada
ATTACH;FMTTYPE=image/png:https://artexperienceuruguay.com/wp-content/uploads/2026/01/8.png
END:VEVENT
BEGIN:VEVENT
DTSTART;TZID=America/Montevideo:20260124T193000
DTEND;TZID=America/Montevideo:20260124T223000
DTSTAMP:20260420T150758
CREATED:20260122T211734Z
LAST-MODIFIED:20260122T211734Z
UID:10001295-1769283000-1769293800@artexperienceuruguay.com
SUMMARY:LOBOS CON PIEL DE CORDERO / DIANA SARAVIA ART GALLERY / ESPACIO DALARNA
DESCRIPTION:EDICIÓN CHIHUAHUA 2026
URL:https://artexperienceuruguay.com/evento/lobos-con-piel-de-cordero-diana-saravia-art-gallery-espacio-dalarna/
LOCATION:DALARNA\, La Genova Km 115.5\, CHIHUAHA\, Uruguay
CATEGORIES:Inauguración
ATTACH;FMTTYPE=image/png:https://artexperienceuruguay.com/wp-content/uploads/2026/01/7.png
END:VEVENT
BEGIN:VEVENT
DTSTART;TZID=America/Montevideo:20260125T180000
DTEND;TZID=America/Montevideo:20260125T213000
DTSTAMP:20260420T150758
CREATED:20260122T225801Z
LAST-MODIFIED:20260122T225908Z
UID:10001303-1769364000-1769376600@artexperienceuruguay.com
SUMMARY:FINISSAGE / JUAN DE ANDRÉS / LA GEOMETRÍA DEL SILENCIO
DESCRIPTION:
URL:https://artexperienceuruguay.com/evento/finissage-juan-andres-la-geometria-del-silencio/
LOCATION:MACA – Museo de Arte Contemporáneo Atchugarry\, Ruta 104\, Km 4\,5\, Maldonado Manantiales\, Uruguay
CATEGORIES:Finissage
ATTACH;FMTTYPE=image/png:https://artexperienceuruguay.com/wp-content/uploads/2026/01/9.png
END:VEVENT
BEGIN:VEVENT
DTSTART;VALUE=DATE:20260126
DTEND;VALUE=DATE:20260201
DTSTAMP:20260420T150758
CREATED:20260125T134422Z
LAST-MODIFIED:20260125T134422Z
UID:10001318-1769385600-1769903999@artexperienceuruguay.com
SUMMARY:TAKKUUK / El lenguaje es vida / EARTHSONIC / ZAK NORMAN / CHARLIE MILLER
DESCRIPTION:MÁS INFO: \nhttps://www.instagram.com/magmafutura/
URL:https://artexperienceuruguay.com/evento/takkuuk-el-lenguaje-es-vida-earthsonic-zak-norman-charlie-miller-2/
LOCATION:MAGMA FUTURA\, Dr. Pablo de María 1011\, Montevideo\, Uruguay
CATEGORIES:Exposición
ATTACH;FMTTYPE=image/png:https://artexperienceuruguay.com/wp-content/uploads/2026/01/8-1.png
END:VEVENT
BEGIN:VEVENT
DTSTART;VALUE=DATE:20260127
DTEND;VALUE=DATE:20260128
DTSTAMP:20260420T150758
CREATED:20260123T165639Z
LAST-MODIFIED:20260123T175618Z
UID:10001313-1769472000-1769558399@artexperienceuruguay.com
SUMMARY:WORKSHOP INTENSIVO / INÉS OLMEDO
DESCRIPTION:
URL:https://artexperienceuruguay.com/evento/workshop-intensivo-ines-olmedo/
LOCATION:Maldonado
CATEGORIES:Formación
ATTACH;FMTTYPE=image/png:https://artexperienceuruguay.com/wp-content/uploads/2026/01/22.png
END:VEVENT
BEGIN:VEVENT
DTSTART;TZID=America/Montevideo:20260127T151553
DTEND;TZID=America/Montevideo:20260127T151553
DTSTAMP:20260420T150758
CREATED:20260126T140053Z
LAST-MODIFIED:20260127T181553Z
UID:10001325-1769526953-1769526953@artexperienceuruguay.com
SUMMARY:SUNRISE SESSION Skyspace Ta Khut
DESCRIPTION:MÁS INFO: \nwww.posada-ayana.com/skyspace\nhttps://www.instagram.com/skyspace_takhut/ \n  \nCOMPRAR ENTRADAS: \nhttps://widget.riservi.com/allies/restaurant-widget/posada-ayana-xQV?fbclid=PAZXh0bgNhZW0CMTEAc3J0YwZhcHBfaWQMMjU2MjgxMDQwNTU4AAGn1frGRMynyQIY2yGwb25IP9depXcED-thu6LMNeOflEl3m2YDiVtH54diRj4_aem_WVRw-hPisiGdioeMVl5jyQ \n1600$\, 600 $ para ciudadanos uruguayos
URL:https://artexperienceuruguay.com/evento/sunrise-session-skyspace-ta-khut/
LOCATION:Skyspace Ta Khut\, JOSÉ IGNACIO\, Uruguay
CATEGORIES:Actividad Cultural,Inmersivo
ATTACH;FMTTYPE=image/png:https://artexperienceuruguay.com/wp-content/uploads/2026/01/3-2.png
END:VEVENT
BEGIN:VEVENT
DTSTART;TZID=America/Montevideo:20260127T183000
DTEND;TZID=America/Montevideo:20260127T210000
DTSTAMP:20260420T150758
CREATED:20260123T144225Z
LAST-MODIFIED:20260123T144225Z
UID:10001310-1769538600-1769547600@artexperienceuruguay.com
SUMMARY:WORKSHOP ACUARELA EN UNIÓN ATELIER POR CLAUDIA FERRARI
DESCRIPTION:
URL:https://artexperienceuruguay.com/evento/workshop-acuarela-en-union-atelier-por-claudia-ferrari/
LOCATION:Unión Atelier\, 10 y Duende Azul\, La Barra\, Uruguay
CATEGORIES:Taller
ATTACH;FMTTYPE=image/png:https://artexperienceuruguay.com/wp-content/uploads/2026/01/mi-semana-de-arte-a-partir-del-22-1.png
END:VEVENT
BEGIN:VEVENT
DTSTART;TZID=America/Montevideo:20260128T080000
DTEND;TZID=America/Montevideo:20260207T170000
DTSTAMP:20260420T150758
CREATED:20260126T142428Z
LAST-MODIFIED:20260202T200851Z
UID:10001330-1769587200-1770483600@artexperienceuruguay.com
SUMMARY:TALLER PARA NIÑOS / TALLER MONTEVIDEO / FEBRERO 2026
DESCRIPTION:
URL:https://artexperienceuruguay.com/evento/taller-para-ninos-taller-montevideo-febrero-2026/
LOCATION:TALLER MONTEVIDEO\, Luis de la Torre 670\, MONTEVIDEO\, Uruguay
CATEGORIES:Para chicos
ATTACH;FMTTYPE=image/png:https://artexperienceuruguay.com/wp-content/uploads/2026/01/6-1.png
END:VEVENT
BEGIN:VEVENT
DTSTART;TZID=America/Montevideo:20260128T160000
DTEND;TZID=America/Montevideo:20260128T173000
DTSTAMP:20260420T150758
CREATED:20260122T231039Z
LAST-MODIFIED:20260122T231039Z
UID:10001304-1769616000-1769621400@artexperienceuruguay.com
SUMMARY:VISITA GUIADA / DARK MATTERS PINUS / INSTALACIÓN DE FONS DE MUYNCK
DESCRIPTION:
URL:https://artexperienceuruguay.com/evento/visita-guiada-dark-matters-pinus-instalacion-de-fons-de-muynck/
LOCATION:POSADA AYANA\, LA JUANITA\, Uruguay
CATEGORIES:Visita guiada
ATTACH;FMTTYPE=image/png:https://artexperienceuruguay.com/wp-content/uploads/2026/01/10.png
END:VEVENT
BEGIN:VEVENT
DTSTART;TZID=America/Montevideo:20260128T180000
DTEND;TZID=America/Montevideo:20260128T190000
DTSTAMP:20260420T150758
CREATED:20260127T231951Z
LAST-MODIFIED:20260127T232610Z
UID:10001334-1769623200-1769626800@artexperienceuruguay.com
SUMMARY:PROCESO DE URBANIZACIÓN DE PUNTA CARRETAS - CONVERSACIÓN CON ALFREDO GHIERR\, ALMA VARELA Y TIM VOSSKAEMPER - MUSEO ZORRILLA
DESCRIPTION:Conversación sobre el proceso de urbanización de Punta Carretas junto a Alfredo Ghierra\, Alma Varela y Tim Vosskaemper. En esta instancia podrás llevarte el catálogo de la muestra. \nLa publicación reúne la investigación realizada por Magdalena Cerantes\, fotografías históricas\, documentos\, planos\, relatos y miradas contemporáneas del barrio del museo.
URL:https://artexperienceuruguay.com/evento/proceso-de-urbanizacion-de-punta-carretas-conversacion-con-alfredo-ghierr-alma-varela-y-tim-vosskaemper-museo-zorrilla/
LOCATION:MUSEO ZORRILLA\, Zorrilla de San Martín 96\, MONTEVIDEO\, Uruguay
CATEGORIES:Conversatorio
ATTACH;FMTTYPE=image/png:https://artexperienceuruguay.com/wp-content/uploads/2026/01/Capture-decran-2026-01-27-a-8.22.18-PM.png
END:VEVENT
END:VCALENDAR