BEGIN:VCALENDAR
VERSION:2.0
PRODID:-//Art Experience Uruguay - ECPv6.15.20//NONSGML v1.0//EN
CALSCALE:GREGORIAN
METHOD:PUBLISH
X-WR-CALNAME:Art Experience Uruguay
X-ORIGINAL-URL:https://artexperienceuruguay.com
X-WR-CALDESC:Eventos para Art Experience Uruguay
REFRESH-INTERVAL;VALUE=DURATION:PT1H
X-Robots-Tag:noindex
X-PUBLISHED-TTL:PT1H
BEGIN:VTIMEZONE
TZID:America/Montevideo
BEGIN:STANDARD
TZOFFSETFROM:-0300
TZOFFSETTO:-0300
TZNAME:-03
DTSTART:20240101T000000
END:STANDARD
END:VTIMEZONE
BEGIN:VEVENT
DTSTART;TZID=America/Montevideo:20251206T180000
DTEND;TZID=America/Montevideo:20260517T193000
DTSTAMP:20260424T082202
CREATED:20251220T190907Z
LAST-MODIFIED:20251220T191019Z
UID:10001128-1765044000-1779046200@artexperienceuruguay.com
SUMMARY:BIENAL SUR 2025 - RELATOS PROVISORIOS: CRUCES ENTRE GÉNERO Y PERFORMATIVIDAD
DESCRIPTION:La Bienalsur 2025 llega a Montevideo.\nARTISTAS: Margarita Bali (ARG)\, Jasmina Cibic (SVN)\, Águeda Dicancro (URY)\, Cristina Lucas (ESP)\,Aurelia Mihai (ROU/DEU)\, Silvia Rivas (ARG)\, Carlos Federico Sáez (URY)\, Ce Vignolo (URY).\nCURADURÍA: BIENALSUR\, MNAV. \nLa noción de cuerpo como campo de acción política y simbólica articula la selección de obras de la exposición «Relatos provisorios: cruces entre género y performatividad». A partir de diversos soportes y desde variadas procedencias espacio-temporales\, los trabajos presentados exploran los múltiples cruces entre género y performatividad\, desplazando la mirada del cuerpo como algo «dado» y abordando las identidades como procesos en acto\, susceptibles de ser explorados\, desobedecidos o reconfigurados.
URL:https://artexperienceuruguay.com/evento/bienal-sur-2025-relatos-provisorios-cruces-entre-genero-y-performatividad/
LOCATION:Montevideo
CATEGORIES:Exposición
ATTACH;FMTTYPE=image/png:https://artexperienceuruguay.com/wp-content/uploads/2025/11/20.png
END:VEVENT
BEGIN:VEVENT
DTSTART;TZID=America/Montevideo:20251206T200000
DTEND;TZID=America/Montevideo:20251206T213000
DTSTAMP:20260424T082202
CREATED:20251207T232424Z
LAST-MODIFIED:20251207T232424Z
UID:10001063-1765051200-1765056600@artexperienceuruguay.com
SUMMARY:AGUA DE PITANGA / AZUL GATTAS
DESCRIPTION:
URL:https://artexperienceuruguay.com/evento/agua-de-pitanga-azul-gattas/
LOCATION:LA GALERILLA\, Uruguay
CATEGORIES:Inauguración
ATTACH;FMTTYPE=image/png:https://artexperienceuruguay.com/wp-content/uploads/2025/12/6.png
END:VEVENT
BEGIN:VEVENT
DTSTART;TZID=America/Montevideo:20251209T190000
DTEND;TZID=America/Montevideo:20251209T210000
DTSTAMP:20260424T082202
CREATED:20251207T202949Z
LAST-MODIFIED:20251207T202949Z
UID:10001057-1765306800-1765314000@artexperienceuruguay.com
SUMMARY:INAUGURACIÓN MUSEO GIUCCI
DESCRIPTION:
URL:https://artexperienceuruguay.com/evento/inauguracion-museo-giucci/
LOCATION:Museo Giucci\, 25 de Mayo 428\, MONTEVIDEO\, Uruguay
CATEGORIES:Inauguración
ATTACH;FMTTYPE=image/png:https://artexperienceuruguay.com/wp-content/uploads/2025/12/18.png
END:VEVENT
BEGIN:VEVENT
DTSTART;TZID=America/Montevideo:20251210T080000
DTEND;TZID=America/Montevideo:20251210T170000
DTSTAMP:20260424T082202
CREATED:20251115T221636Z
LAST-MODIFIED:20251115T221636Z
UID:10000947-1765353600-1765386000@artexperienceuruguay.com
SUMMARY:ARCA CONECTA - CONVOCATORIA 2026
DESCRIPTION:HASTA EL 10 DE DIC \n+ INFO \nhttps://arcafilmfestival.com/
URL:https://artexperienceuruguay.com/evento/arca-conecta-convocatoria-2026/
LOCATION:Montevideo
CATEGORIES:Convocatorias
ATTACH;FMTTYPE=image/png:https://artexperienceuruguay.com/wp-content/uploads/2025/11/10-1.png
END:VEVENT
BEGIN:VEVENT
DTSTART;TZID=America/Montevideo:20251210T190000
DTEND;TZID=America/Montevideo:20251210T210000
DTSTAMP:20260424T082202
CREATED:20251210T015135Z
LAST-MODIFIED:20251210T015135Z
UID:10001069-1765393200-1765400400@artexperienceuruguay.com
SUMMARY:CHARLA SOBRE ARCHIVO CLEMENTE PADÍN / LABORATORIO CINE FAC / AGUSTINA FERNÁNDEZ Y JULIO CABRIO
DESCRIPTION:
URL:https://artexperienceuruguay.com/evento/charla-sobre-archivo-clemente-padin-laboratorio-cine-fac-agustina-fernandez-y-julio-cabrio/
LOCATION:MUSEO JUAN MANUEL BLANES\, Millán 4015\, MONTEVIDEO\, Uruguay
CATEGORIES:Conversatorio
ATTACH;FMTTYPE=image/jpeg:https://artexperienceuruguay.com/wp-content/uploads/2025/12/WhatsApp-Image-2025-12-09-at-21.57.38-3.jpeg
END:VEVENT
BEGIN:VEVENT
DTSTART;TZID=America/Montevideo:20251210T193000
DTEND;TZID=America/Montevideo:20251210T210000
DTSTAMP:20260424T082202
CREATED:20251210T014654Z
LAST-MODIFIED:20251210T014654Z
UID:10001068-1765395000-1765400400@artexperienceuruguay.com
SUMMARY:CHARLA SOBRE ARCHIVO MADEJA / LABORATORIO CINE FAC / ANA CLARA TALENTO
DESCRIPTION:
URL:https://artexperienceuruguay.com/evento/charla-sobre-archivo-madeja-laboratorio-cine-fac-ana-clara-talento/
LOCATION:MUSEO JUAN MANUEL BLANES\, Millán 4015\, MONTEVIDEO\, Uruguay
CATEGORIES:Conversatorio
ATTACH;FMTTYPE=image/jpeg:https://artexperienceuruguay.com/wp-content/uploads/2025/12/WhatsApp-Image-2025-12-09-at-21.57.38-2.jpeg
END:VEVENT
BEGIN:VEVENT
DTSTART;VALUE=DATE:20251211
DTEND;VALUE=DATE:20260401
DTSTAMP:20260424T082202
CREATED:20251220T193923Z
LAST-MODIFIED:20260322T034752Z
UID:10001133-1765411200-1775001599@artexperienceuruguay.com
SUMMARY:PROYECTO PHARUS. POÉTICA DE LO VISIBLE / MATILDE MARÍN
DESCRIPTION:
URL:https://artexperienceuruguay.com/evento/proyecto-pharus-poetica-de-lo-visible-matilde-marin-2/
LOCATION:Museo de Artes Decorativas | Palacio Taranco\, Circunvalación Durango y Solís\, MONTEVIDEO\, Uruguay
CATEGORIES:Exposición
ATTACH;FMTTYPE=image/png:https://artexperienceuruguay.com/wp-content/uploads/2025/12/16.png
END:VEVENT
BEGIN:VEVENT
DTSTART;TZID=America/Montevideo:20251211T170000
DTEND;TZID=America/Montevideo:20251211T200000
DTSTAMP:20260424T082202
CREATED:20251207T201040Z
LAST-MODIFIED:20251207T201040Z
UID:10001056-1765472400-1765483200@artexperienceuruguay.com
SUMMARY:PROYECTO PHARUS. POÉTICA DE LO VISIBLE / MATILDE MARÍN
DESCRIPTION:
URL:https://artexperienceuruguay.com/evento/proyecto-pharus-poetica-de-lo-visible-matilde-marin/
LOCATION:Museo de Artes Decorativas | Palacio Taranco\, Circunvalación Durango y Solís\, MONTEVIDEO\, Uruguay
CATEGORIES:Inauguración
ATTACH;FMTTYPE=image/png:https://artexperienceuruguay.com/wp-content/uploads/2025/12/16.png
END:VEVENT
BEGIN:VEVENT
DTSTART;TZID=America/Montevideo:20251211T180000
DTEND;TZID=America/Montevideo:20251211T220000
DTSTAMP:20260424T082202
CREATED:20251215T235117Z
LAST-MODIFIED:20251216T000205Z
UID:10001107-1765476000-1765490400@artexperienceuruguay.com
SUMMARY:Tiempo Prestado - Victoria Martinez
DESCRIPTION:
URL:https://artexperienceuruguay.com/evento/tiempo-prestado-victoria-martinez/
LOCATION:Hungry Art\, Reconquista 602
CATEGORIES:Inauguración
ATTACH;FMTTYPE=image/png:https://artexperienceuruguay.com/wp-content/uploads/2025/12/Capture-decran-2025-12-15-a-8.46.59-PM.png
END:VEVENT
BEGIN:VEVENT
DTSTART;TZID=America/Montevideo:20251211T180000
DTEND;TZID=America/Montevideo:20251222T220000
DTSTAMP:20260424T082202
CREATED:20251215T235458Z
LAST-MODIFIED:20251223T183659Z
UID:10001108-1765476000-1766440800@artexperienceuruguay.com
SUMMARY:Tiempo Prestado - Victoria Martinez
DESCRIPTION:
URL:https://artexperienceuruguay.com/evento/tiempo-prestado-victoria-martinez-2/
LOCATION:Hungry Art\, Reconquista 602
CATEGORIES:Exposición
ATTACH;FMTTYPE=image/png:https://artexperienceuruguay.com/wp-content/uploads/2025/12/Capture-decran-2025-12-15-a-8.46.59-PM.png
END:VEVENT
BEGIN:VEVENT
DTSTART;TZID=America/Montevideo:20251211T183000
DTEND;TZID=America/Montevideo:20251211T200000
DTSTAMP:20260424T082202
CREATED:20251207T204153Z
LAST-MODIFIED:20251207T204153Z
UID:10001060-1765477800-1765483200@artexperienceuruguay.com
SUMMARY:MI LUGAR /  SOLEDAD DA ROSA
DESCRIPTION:
URL:https://artexperienceuruguay.com/evento/mi-lugar-soledad-da-rosa/
LOCATION:Consulado Argentino\, Sarandí 822\, MALDONADO\, Uruguay
CATEGORIES:Inauguración
ATTACH;FMTTYPE=image/png:https://artexperienceuruguay.com/wp-content/uploads/2025/12/21.png
END:VEVENT
BEGIN:VEVENT
DTSTART;TZID=America/Montevideo:20251211T183000
DTEND;TZID=America/Montevideo:20251211T213000
DTSTAMP:20260424T082202
CREATED:20251207T231958Z
LAST-MODIFIED:20251207T231958Z
UID:10001062-1765477800-1765488600@artexperienceuruguay.com
SUMMARY:PRINCIPIO DE ESPERANZA  / LA OTRA MITAD DE DIOS / GABRIEL CALDERÓN
DESCRIPTION:
URL:https://artexperienceuruguay.com/evento/principio-de-esperanza-la-otra-mitad-de-dios-gabriel-calderon/
LOCATION:FADU\, Br. Artigas 1031\, MONTEVIDEO\, Uruguay
CATEGORIES:Lanzamiento de libro
ATTACH;FMTTYPE=image/png:https://artexperienceuruguay.com/wp-content/uploads/2025/12/3-2.png
END:VEVENT
BEGIN:VEVENT
DTSTART;TZID=America/Montevideo:20251211T210000
DTEND;TZID=America/Montevideo:20251211T230000
DTSTAMP:20260424T082202
CREATED:20251207T195531Z
LAST-MODIFIED:20251207T195531Z
UID:10001053-1765486800-1765494000@artexperienceuruguay.com
SUMMARY:TRAMAS LUMÍNICAS DE FLAVIA VASSALLO BUSCH
DESCRIPTION:Curaduría de GABRIELA GÓMEZ
URL:https://artexperienceuruguay.com/evento/tramas-luminicas-de-flavia-vassallo-busch/
LOCATION:Hiperespacio\, Pérez Castellano 1372\, Montevideo\, Uruguay
CATEGORIES:Inauguración
ATTACH;FMTTYPE=image/png:https://artexperienceuruguay.com/wp-content/uploads/2025/12/13.png
END:VEVENT
BEGIN:VEVENT
DTSTART;TZID=America/Montevideo:20251212T100000
DTEND;TZID=America/Montevideo:20251212T190000
DTSTAMP:20260424T082202
CREATED:20251207T195726Z
LAST-MODIFIED:20251220T214201Z
UID:10001054-1765533600-1765566000@artexperienceuruguay.com
SUMMARY:TRAMAS LUMÍNICAS - FLAVIA VASSALLO BUSCH - HIPERESPACIO
DESCRIPTION:Curaduría de GABRIELA GÓMEZ
URL:https://artexperienceuruguay.com/evento/tramas-luminicas-de-flavia-vassallo-busch-2/
LOCATION:Hiperespacio\, Pérez Castellano 1372\, Montevideo\, Uruguay
CATEGORIES:Inauguración
ATTACH;FMTTYPE=image/png:https://artexperienceuruguay.com/wp-content/uploads/2025/12/13.png
END:VEVENT
BEGIN:VEVENT
DTSTART;TZID=America/Montevideo:20251212T170000
DTEND;TZID=America/Montevideo:20251212T190000
DTSTAMP:20260424T082202
CREATED:20251210T024522Z
LAST-MODIFIED:20251210T024522Z
UID:10001072-1765558800-1765566000@artexperienceuruguay.com
SUMMARY:TRAMAS PARA HABITAR / TAMARA BURLANDO Y JOSÉ BURLANDO
DESCRIPTION:
URL:https://artexperienceuruguay.com/evento/tramas-para-habitar-tamara-burlando-y-jose-burlando/
LOCATION:OLAF\, Calle de la Luna\, Punta Ballena\, Uruguay
CATEGORIES:Acción
ATTACH;FMTTYPE=image/png:https://artexperienceuruguay.com/wp-content/uploads/2025/12/DICIEMBRE-Y-ENERO-PUNTA-DEL-ESTE.png
END:VEVENT
BEGIN:VEVENT
DTSTART;TZID=America/Montevideo:20251212T170000
DTEND;TZID=America/Montevideo:20260228T200000
DTSTAMP:20260424T082202
CREATED:20251220T214109Z
LAST-MODIFIED:20251220T214215Z
UID:10001151-1765558800-1772308800@artexperienceuruguay.com
SUMMARY:TRAMAS LUMÍNICAS -  FLAVIA VASSALLO BUSCH - HIPERESPACIO
DESCRIPTION:Curaduría de GABRIELA GÓMEZ
URL:https://artexperienceuruguay.com/evento/tramas-luminicas-de-flavia-vassallo-busch-3/
LOCATION:Hiperespacio\, Pérez Castellano 1372\, Montevideo\, Uruguay
CATEGORIES:Exposición
ATTACH;FMTTYPE=image/png:https://artexperienceuruguay.com/wp-content/uploads/2025/12/13.png
END:VEVENT
BEGIN:VEVENT
DTSTART;TZID=America/Montevideo:20251212T180000
DTEND;TZID=America/Montevideo:20251212T190000
DTSTAMP:20260424T082202
CREATED:20260207T165744Z
LAST-MODIFIED:20260320T023720Z
UID:10007013-1765562400-1765566000@artexperienceuruguay.com
SUMMARY:VISITAS GUIADAS / ANA SEGOVIA. The Office of Inter-American Affairs Presents: Uruguay
DESCRIPTION:Viernes y sábados\, 18:00.\nActividad gratuita. No requiere inscripción previa. \nTodas las semanas ofrecemos un programa de visitas mediadas a cargo de la curadora Camila Arbeláez. La visita propone una lectura de la práctica artística de Ana Segovia (Ciudad de México\, 1991) y del proceso de creación de esta exposición concebida especialmente para FCM\, que combina pintura\, instalación y performance. La muestra revisa críticamente cómo se construyen ciertos imaginarios en torno a la identidad nacional\, el género y la masculinidad.
URL:https://artexperienceuruguay.com/evento/visitas-guiadas-ana-segovia-the-office-of-inter-american-affairs-presents-uruguay/2025-12-12/
LOCATION:FUNDACIÓN CERVIERI MONSUÁREZ\, Eugenio Sainz Martínez esq. Los Cisnes\, JOSÉ IGNACIO\, Uruguay
CATEGORIES:Visita guiada
ATTACH;FMTTYPE=image/png:https://artexperienceuruguay.com/wp-content/uploads/2026/02/19.png
END:VEVENT
BEGIN:VEVENT
DTSTART;TZID=America/Montevideo:20251212T180000
DTEND;TZID=America/Montevideo:20251212T220000
DTSTAMP:20260424T082202
CREATED:20251204T225750Z
LAST-MODIFIED:20251204T225750Z
UID:10001049-1765562400-1765576800@artexperienceuruguay.com
SUMMARY:PAISAJES INTERNOS - COLECTIVA DEL TALLER EL IMPULSO DE FLORENCIA ITZAINA
DESCRIPTION:
URL:https://artexperienceuruguay.com/evento/paisajes-internos-colectiva-del-taller-el-impulso-de-florencia-itzaina/
LOCATION:La Hoguera
CATEGORIES:Inauguración
ATTACH;FMTTYPE=image/jpeg:https://artexperienceuruguay.com/wp-content/uploads/2025/12/PHOTO-2025-12-01-22-09-18.jpg
END:VEVENT
BEGIN:VEVENT
DTSTART;TZID=America/Montevideo:20251212T180000
DTEND;TZID=America/Montevideo:20251212T220000
DTSTAMP:20260424T082202
CREATED:20251207T194458Z
LAST-MODIFIED:20251207T194458Z
UID:10001051-1765562400-1765576800@artexperienceuruguay.com
SUMMARY:NOCHE DE LOS MUSEOS
DESCRIPTION:
URL:https://artexperienceuruguay.com/evento/noche-de-los-museos/
LOCATION:AGADU\, Canelones 1130\, MONTEVIDEO\, Uruguay
CATEGORIES:Actividad Cultural
ATTACH;FMTTYPE=image/png:https://artexperienceuruguay.com/wp-content/uploads/2025/12/12.png
END:VEVENT
BEGIN:VEVENT
DTSTART;TZID=America/Montevideo:20251212T180000
DTEND;TZID=America/Montevideo:20251212T230000
DTSTAMP:20260424T082202
CREATED:20251207T194704Z
LAST-MODIFIED:20251207T194725Z
UID:10001052-1765562400-1765580400@artexperienceuruguay.com
SUMMARY:NOCHE DE LOS MUSEOS
DESCRIPTION:
URL:https://artexperienceuruguay.com/evento/noche-de-los-museos-2/
LOCATION:MAPI
CATEGORIES:Actividad Cultural
ATTACH;FMTTYPE=image/png:https://artexperienceuruguay.com/wp-content/uploads/2025/12/17.png
END:VEVENT
BEGIN:VEVENT
DTSTART;TZID=America/Montevideo:20251212T180000
DTEND;TZID=America/Montevideo:20251212T233000
DTSTAMP:20260424T082202
CREATED:20251124T152958Z
LAST-MODIFIED:20251125T015725Z
UID:10000998-1765562400-1765582200@artexperienceuruguay.com
SUMMARY:MUSEOS EN LA NOCHE
DESCRIPTION:PRONTO LA AGENDA DETALLADA
URL:https://artexperienceuruguay.com/evento/museos-en-la-noche/
LOCATION:Montevideo
CATEGORIES:Actividad Cultural,Festival,Inauguración,Open Studio
ATTACH;FMTTYPE=image/png:https://artexperienceuruguay.com/wp-content/uploads/2025/11/1-9.png
END:VEVENT
BEGIN:VEVENT
DTSTART;TZID=America/Montevideo:20251212T180000
DTEND;TZID=America/Montevideo:20251212T233000
DTSTAMP:20260424T082202
CREATED:20251210T145557Z
LAST-MODIFIED:20251210T145557Z
UID:10001075-1765562400-1765582200@artexperienceuruguay.com
SUMMARY:MUSEOS EN LA NOCHE / MALDONADO
DESCRIPTION:PROGRAMA COMPLETO: \nhttps://www.maldonado.gub.uy/noticias/este-viernes-llega-nueva-edicion-museos-noche
URL:https://artexperienceuruguay.com/evento/museos-en-la-noche-maldonado/
LOCATION:Montevideo
CATEGORIES:Actividad Cultural
ATTACH;FMTTYPE=image/png:https://artexperienceuruguay.com/wp-content/uploads/2025/12/Arboretum-Lussich-Cno.-Lussich-Habilitado-de-1400-a-2200-horas-Casapueblo-Mar-de-Liguria-Punta-Balle-Habilitado-de-1000-a-2200-horas-Ingreso-gratuito-a-partir-de-las-2000-horas.png
END:VEVENT
BEGIN:VEVENT
DTSTART;TZID=America/Montevideo:20251212T190000
DTEND;TZID=America/Montevideo:20251212T203000
DTSTAMP:20260424T082202
CREATED:20251207T200326Z
LAST-MODIFIED:20251207T200326Z
UID:10001055-1765566000-1765571400@artexperienceuruguay.com
SUMMARY:CAMPO SUCIO - JARDÍN PATIO OESTE - TERESA PUPPO /ALEJANDRO O’NEILL
DESCRIPTION:
URL:https://artexperienceuruguay.com/evento/campo-sucio-jardin-patio-oeste-teresa-puppo-alejandro-oneill/
LOCATION:EAC – ESPACIO DE ARTE CONTEMPORANEO\, Arenal Grande 1930\, Montevideo\, Montevideo\, 11800\, Uruguay
CATEGORIES:Inauguración
ATTACH;FMTTYPE=image/png:https://artexperienceuruguay.com/wp-content/uploads/2025/12/15.png
END:VEVENT
BEGIN:VEVENT
DTSTART;TZID=America/Montevideo:20251212T190000
DTEND;TZID=America/Montevideo:20251212T230000
DTSTAMP:20260424T082202
CREATED:20251210T014130Z
LAST-MODIFIED:20251210T014130Z
UID:10001067-1765566000-1765580400@artexperienceuruguay.com
SUMMARY:MUSEOS EN LA NOCHE EN EL CCE
DESCRIPTION:
URL:https://artexperienceuruguay.com/evento/museos-en-la-noche-en-el-cce/
LOCATION:CCE – CENTRO CULTURAL DE ESPAÑA\, Rincón 629\, MONTEVIDEO\, Uruguay
CATEGORIES:Actividad Cultural,Visita guiada
ATTACH;FMTTYPE=image/png:https://artexperienceuruguay.com/wp-content/uploads/2025/12/20-2.png
END:VEVENT
BEGIN:VEVENT
DTSTART;TZID=America/Montevideo:20251212T200000
DTEND;TZID=America/Montevideo:20251212T233000
DTSTAMP:20260424T082202
CREATED:20251208T011051Z
LAST-MODIFIED:20251208T011051Z
UID:10001064-1765569600-1765582200@artexperienceuruguay.com
SUMMARY:MUSEOS EN LA NOCHE
DESCRIPTION:
URL:https://artexperienceuruguay.com/evento/museos-en-la-noche-2/
LOCATION:Centro Cultural Casa de Artigas\, Avda. Artigas\, Sauce\, Uruguay
CATEGORIES:Actividad Cultural
ATTACH;FMTTYPE=image/png:https://artexperienceuruguay.com/wp-content/uploads/2025/12/9.png
END:VEVENT
BEGIN:VEVENT
DTSTART;VALUE=DATE:20251213
DTEND;VALUE=DATE:20260108
DTSTAMP:20260424T082202
CREATED:20251220T194329Z
LAST-MODIFIED:20251220T194329Z
UID:10001134-1765584000-1767830399@artexperienceuruguay.com
SUMMARY:MATRICIA de JONATHAN VIVACQUA
DESCRIPTION:
URL:https://artexperienceuruguay.com/evento/matricia-de-jonathan-vivacqua-3/
LOCATION:Walden Naturae\, Los Cerrillos c/ Paraje El Faro\, Pueblo Garzón\, Uruguay
CATEGORIES:Exposición
ATTACH;FMTTYPE=image/png:https://artexperienceuruguay.com/wp-content/uploads/2025/11/Diseno-sin-titulo-58.png
END:VEVENT
BEGIN:VEVENT
DTSTART;TZID=America/Montevideo:20251213T110000
DTEND;TZID=America/Montevideo:20251213T160000
DTSTAMP:20260424T082202
CREATED:20251208T011718Z
LAST-MODIFIED:20251208T011718Z
UID:10001065-1765623600-1765641600@artexperienceuruguay.com
SUMMARY:LABORATORIO DEL ERROR - INTRODUCCIÓN A LA ACUARELA CONTEMPORÁNEA
DESCRIPTION:Modera: ANTONELLA FERNÁNDEZ
URL:https://artexperienceuruguay.com/evento/laboratorio-del-error-introduccion-a-la-acuarela-contemporanea/
LOCATION:La Hoguera
CATEGORIES:Taller
ATTACH;FMTTYPE=image/png:https://artexperienceuruguay.com/wp-content/uploads/2025/12/1-1.png
END:VEVENT
BEGIN:VEVENT
DTSTART;TZID=America/Montevideo:20251213T170000
DTEND;TZID=America/Montevideo:20251213T200000
DTSTAMP:20260424T082202
CREATED:20251201T013542Z
LAST-MODIFIED:20251201T013542Z
UID:10001035-1765645200-1765656000@artexperienceuruguay.com
SUMMARY:MATRICIA de JONATHAN VIVACQUA
DESCRIPTION:
URL:https://artexperienceuruguay.com/evento/matricia-de-jonathan-vivacqua/
LOCATION:Walden Naturae\, Los Cerrillos c/ Paraje El Faro\, Pueblo Garzón\, Uruguay
CATEGORIES:Inauguración
ATTACH;FMTTYPE=image/png:https://artexperienceuruguay.com/wp-content/uploads/2025/11/Diseno-sin-titulo-58.png
END:VEVENT
BEGIN:VEVENT
DTSTART;TZID=America/Montevideo:20251213T180000
DTEND;TZID=America/Montevideo:20251213T190000
DTSTAMP:20260424T082202
CREATED:20260207T165744Z
LAST-MODIFIED:20260320T023720Z
UID:10007014-1765648800-1765652400@artexperienceuruguay.com
SUMMARY:VISITAS GUIADAS / ANA SEGOVIA. The Office of Inter-American Affairs Presents: Uruguay
DESCRIPTION:Viernes y sábados\, 18:00.\nActividad gratuita. No requiere inscripción previa. \nTodas las semanas ofrecemos un programa de visitas mediadas a cargo de la curadora Camila Arbeláez. La visita propone una lectura de la práctica artística de Ana Segovia (Ciudad de México\, 1991) y del proceso de creación de esta exposición concebida especialmente para FCM\, que combina pintura\, instalación y performance. La muestra revisa críticamente cómo se construyen ciertos imaginarios en torno a la identidad nacional\, el género y la masculinidad.
URL:https://artexperienceuruguay.com/evento/visitas-guiadas-ana-segovia-the-office-of-inter-american-affairs-presents-uruguay/2025-12-13/
LOCATION:FUNDACIÓN CERVIERI MONSUÁREZ\, Eugenio Sainz Martínez esq. Los Cisnes\, JOSÉ IGNACIO\, Uruguay
CATEGORIES:Visita guiada
ATTACH;FMTTYPE=image/png:https://artexperienceuruguay.com/wp-content/uploads/2026/02/19.png
END:VEVENT
BEGIN:VEVENT
DTSTART;TZID=America/Montevideo:20251213T180000
DTEND;TZID=America/Montevideo:20251213T200000
DTSTAMP:20260424T082202
CREATED:20251210T015518Z
LAST-MODIFIED:20251210T015910Z
UID:10001070-1765648800-1765656000@artexperienceuruguay.com
SUMMARY:CONVERSATORIO 36a. BIENAL DE SAN PABLO
DESCRIPTION:MODERA: MARCELO REZEMBLUM
URL:https://artexperienceuruguay.com/evento/conversatoria-36a-bienal-de-san-pablo/
LOCATION:GALERIA DEL PASEO\, 10 Km 164\, Manantiales\, Uruguay
CATEGORIES:Conversatorio
ATTACH;FMTTYPE=image/jpeg:https://artexperienceuruguay.com/wp-content/uploads/2025/12/WhatsApp-Image-2025-12-09-at-20.53.46-1.jpeg
END:VEVENT
END:VCALENDAR