BEGIN:VCALENDAR
VERSION:2.0
PRODID:-//Art Experience Uruguay - ECPv6.15.20//NONSGML v1.0//EN
CALSCALE:GREGORIAN
METHOD:PUBLISH
X-ORIGINAL-URL:https://artexperienceuruguay.com
X-WR-CALDESC:Eventos para Art Experience Uruguay
REFRESH-INTERVAL;VALUE=DURATION:PT1H
X-Robots-Tag:noindex
X-PUBLISHED-TTL:PT1H
BEGIN:VTIMEZONE
TZID:America/Montevideo
BEGIN:STANDARD
TZOFFSETFROM:-0300
TZOFFSETTO:-0300
TZNAME:-03
DTSTART:20250101T000000
END:STANDARD
END:VTIMEZONE
BEGIN:VEVENT
DTSTART;TZID=America/Montevideo:20260423T193000
DTEND;TZID=America/Montevideo:20260522T210000
DTSTAMP:20260423T055348
CREATED:20260412T232726Z
LAST-MODIFIED:20260413T013007Z
UID:10007545-1776972600-1779483600@artexperienceuruguay.com
SUMMARY:El Borde del Lenguaje | Magalí Milkis | Alliance Française de Montevideo
DESCRIPTION:Pinturas que operan donde el lenguaje se vuelve imagen y la imagen ya no alcanza para decir. Magalí Milkis expone una serie de obras que exploran ese territorio inestable donde los símbolos se forman y se deshacen. Curaduría de Elisa Valerio. Inauguración el 23 de abril a las 19:30. Hasta el 22 de mayo de lunes a viernes de 10 a 20 horas.
URL:https://artexperienceuruguay.com/evento/el-borde-del-lenguaje-magali-milkis-alliance-francaise-de-montevideo/
CATEGORIES:Inauguración
ATTACH;FMTTYPE=image/jpeg:https://artexperienceuruguay.com/wp-content/uploads/2026/04/appu-40-aniversario-artes-del-fuego-hotel-holiday-inn-montevideo-2026.jpg
END:VEVENT
BEGIN:VEVENT
DTSTART;TZID=America/Montevideo:20260424T100000
DTEND;TZID=America/Montevideo:20260522T200000
DTSTAMP:20260423T055348
CREATED:20260413T181120Z
LAST-MODIFIED:20260413T181120Z
UID:10007550-1777024800-1779480000@artexperienceuruguay.com
SUMMARY:El Borde del Lenguaje | Magalí Milkis | Alliance Française de Montevideo
DESCRIPTION:Pinturas que operan donde el lenguaje se vuelve imagen y la imagen ya no alcanza para decir. Magalí Milkis expone una serie de obras que exploran ese territorio inestable donde los símbolos se forman y se deshacen. Curaduría de Elisa Valerio. \nHasta el 22 de mayo de lunes a viernes de 10 a 20 horas.
URL:https://artexperienceuruguay.com/evento/el-borde-del-lenguaje-magali-milkis-alliance-francaise-de-montevideo-2/
LOCATION:Alianza Francesa de Montevideo\, Bv. Gral. Artigas 1271\, Montevideo\, Uruguay
CATEGORIES:Exposición
ATTACH;FMTTYPE=image/jpeg:https://artexperienceuruguay.com/wp-content/uploads/2026/04/appu-40-aniversario-artes-del-fuego-hotel-holiday-inn-montevideo-2026.jpg
END:VEVENT
END:VCALENDAR