BEGIN:VCALENDAR
VERSION:2.0
PRODID:-//Art Experience Uruguay - ECPv6.15.20//NONSGML v1.0//EN
CALSCALE:GREGORIAN
METHOD:PUBLISH
X-ORIGINAL-URL:https://artexperienceuruguay.com
X-WR-CALDESC:Eventos para Art Experience Uruguay
REFRESH-INTERVAL;VALUE=DURATION:PT1H
X-Robots-Tag:noindex
X-PUBLISHED-TTL:PT1H
BEGIN:VTIMEZONE
TZID:America/Montevideo
BEGIN:STANDARD
TZOFFSETFROM:-0300
TZOFFSETTO:-0300
TZNAME:-03
DTSTART:20240101T000000
END:STANDARD
END:VTIMEZONE
BEGIN:VEVENT
DTSTART;TZID=America/Montevideo:20251001T080000
DTEND;TZID=America/Montevideo:20251001T170000
DTSTAMP:20260420T064704
CREATED:20250915T233225Z
LAST-MODIFIED:20251001T021938Z
UID:10000045-1759305600-1759338000@artexperienceuruguay.com
SUMMARY:DIBUJO Y TERRITORIO / TALLER EN OCTUBRE / INES TILLOUS
DESCRIPTION:DIBUJO Y TERRITORIO / TALLER EN OCTUBRE / INES TILLOUS \nTaller en Ciudad Vieja/ Cerrito 590 \n+INFO: \nhttps://www.instagram.com/inestillous/
URL:https://artexperienceuruguay.com/evento/dibujo-y-territorio-taller-en-octubre-ines-tillous/
CATEGORIES:Taller
ATTACH;FMTTYPE=image/png:https://artexperienceuruguay.com/wp-content/uploads/2025/09/Diseno-sin-titulo-15.png
END:VEVENT
BEGIN:VEVENT
DTSTART;TZID=America/Montevideo:20251004T150000
DTEND;TZID=America/Montevideo:20251004T150000
DTSTAMP:20260420T064705
CREATED:20250929T235114Z
LAST-MODIFIED:20251010T221817Z
UID:10000077-1759590000-1759590000@artexperienceuruguay.com
SUMMARY:PEQUEÑOS MUNDOS - TALLER PARA FAMILIAS
DESCRIPTION:El sábado 4 de octubre celebramos el Patrimonio junto a Fundación Iturria\, invitando a las familias al taller «Pequeños mundos – 200 años de arte en el Uruguay» \nA partir de la obra de Ignacio Iturria nos iremos encontrando con la obra de diferentes artistas que han nacido o producido en Uruguay en los últimos 200 años. \nDiversas dinámicas y materiales nos guiarán para que cada familia pueda construir un pequeño mundo a modo de escenario\, integrando imágenes e historias.\nUn pequeño mundo para llevar a casa y seguir jugando\, una oportunidad de conocer artistas de nuestro Uruguay\, desde Besnes Irigoyen hasta artistas contemporáneos\, una manera de conocer\, a través de la pintura y los dibujos\, la evolución del paisaje y los distintos modos de habitarlo.\n(pintura\, collage\, ensamblaje) \nActividad sin costo \nInscripcion previa a info@traza.edu.uy \nCupos limitados \nhttps://www.instagram.com/fundacioniturria/
URL:https://artexperienceuruguay.com/evento/pequenos-mundos-200-anos-de-arte-en-el-uruguay-taller-para-familias/
LOCATION:Fundación Iturria\, Av Arq Horacio Acosta y Lara 7329\, Montevideo\, 11500\, Uruguay
CATEGORIES:Taller
ATTACH;FMTTYPE=image/png:https://artexperienceuruguay.com/wp-content/uploads/2025/09/2-4.png
END:VEVENT
BEGIN:VEVENT
DTSTART;TZID=America/Montevideo:20251006T000000
DTEND;TZID=America/Montevideo:20251006T000000
DTSTAMP:20260420T064705
CREATED:20250929T213320Z
LAST-MODIFIED:20250929T213539Z
UID:10000073-1759708800-1759708800@artexperienceuruguay.com
SUMMARY:Taller teórico/práctico de Historia del Arte\, coordina: Cecilia De Souza
DESCRIPTION:Este taller te invita a recorrer las obras más fascinantes de cada época a través de un enfoque dinámico y participativo. No se trata solo de mirar\, sino de experimentar: combinamos clases teórico-prácticas con actividades lúdicas y creativas que permiten poner en juego lo aprendido. Un espacio pensado para todo público\, ágil y accesible\, donde el diálogo y la reflexión colectiva nos llevarán desde el misterio de las cuevas prehistóricas hasta las preguntas que atraviesan el arte contemporáneo. \ninfo e inscripciones: \nhttps://www.escuela7sentidos.com/taller-historia-del-arte
URL:https://artexperienceuruguay.com/evento/taller-teorico-practico-de-historia-del-arte-coordina-cecilia-de-souza/
CATEGORIES:Taller
ATTACH;FMTTYPE=image/png:https://artexperienceuruguay.com/wp-content/uploads/2025/09/21-3.png
END:VEVENT
BEGIN:VEVENT
DTSTART;TZID=America/Montevideo:20251007T080000
DTEND;TZID=America/Montevideo:20251007T080000
DTSTAMP:20260420T064705
CREATED:20250915T230650Z
LAST-MODIFIED:20251011T004128Z
UID:10000044-1759824000-1759824000@artexperienceuruguay.com
SUMMARY:EL DIBUJO DE LA MAREA - ENLACES
DESCRIPTION:EL DIBUJO DE LA MAREA – ENLACES TALLER INTENSIVO / SOLANAS ART EXPERIENCE\n \nUna propuesta dirigida a la comunidad artística que invita a sumergirse durante cinco días en una experiencia diseñada para expandir el campo poético y metodológico de cada persona. \nEL DIBUJO DE LA MAREA: taller intensivo coordinado por las artistas argentinas Viviana Blanco y Valeria Conte Mac Donell\, ambas con una destacada trayectoria profesional y experiencia en el programa de residencias SAE \n+ INFO: \nhttps://www.instagram.com/solanasartexperience/ \nCategorías:\nFormación\, Residencias\, Taller
URL:https://artexperienceuruguay.com/evento/el-dibujo-de-la-marea-enlaces-taller-intensivo-solanas-art-experience/
LOCATION:SOLANAS ART EXPERIENCE – SAE\, PUNTA BALLENA\, Uruguay
CATEGORIES:Taller
ATTACH;FMTTYPE=image/png:https://artexperienceuruguay.com/wp-content/uploads/2025/09/Diseno-sin-titulo-14.png
END:VEVENT
BEGIN:VEVENT
DTSTART;TZID=America/Montevideo:20251009T183000
DTEND;TZID=America/Montevideo:20251009T183000
DTSTAMP:20260420T064706
CREATED:20251003T175458Z
LAST-MODIFIED:20251003T181424Z
UID:10000080-1760034600-1760034600@artexperienceuruguay.com
SUMMARY:ARTE URUGUAYO EN CONTEXTO TALLER TEÓRICO PRÁCTICO FEDERICO SEQUEIRA
DESCRIPTION:ARTE URUGUAYO EN CONTEXTO \n TALLER TEÓRICO PRÁCTICO FEDERICO SEQUEIRA \nSe trata de un taller teórico y práctico de 3 encuentros\, que abordará casos fundamentales de las artes visuales uruguayas. \n  \n  \n+INFO \nhttps://www.instagram.com/laresi_uy/
URL:https://artexperienceuruguay.com/evento/arte-uruguayo-en-contexto-taller-teorico-practico-federico-sequeira/
LOCATION:La Resi\, Rincón 865\, Maldonado\, Maldonado\, Uruguay
CATEGORIES:Formación,Taller
ATTACH;FMTTYPE=image/png:https://artexperienceuruguay.com/wp-content/uploads/2025/10/4.png
END:VEVENT
BEGIN:VEVENT
DTSTART;TZID=America/Montevideo:20251013T190000
DTEND;TZID=America/Montevideo:20251013T190000
DTSTAMP:20260420T064706
CREATED:20251006T095103Z
LAST-MODIFIED:20251006T175353Z
UID:10000084-1760382000-1760382000@artexperienceuruguay.com
SUMMARY:CÁMARA LENTA / TALLER DE ESCRITURA
DESCRIPTION:
URL:https://artexperienceuruguay.com/evento/camara-lenta/
LOCATION:Hiperespacio\, Pérez Castellano 1372\, Montevideo\, Uruguay
CATEGORIES:Taller
ATTACH;FMTTYPE=image/png:https://artexperienceuruguay.com/wp-content/uploads/2025/10/Capture-decran-2025-10-06-a-11.44.29-AM.png
END:VEVENT
BEGIN:VEVENT
DTSTART;TZID=America/Montevideo:20251025T150000
DTEND;TZID=America/Montevideo:20251025T180000
DTSTAMP:20260420T064706
CREATED:20251018T205418Z
LAST-MODIFIED:20251018T205752Z
UID:10000838-1761404400-1761415200@artexperienceuruguay.com
SUMMARY:TEXTURA TALLER DE IMÁGENES Y PALABRAS ELISA RÍOS Y CECILIA RÍOS
DESCRIPTION:Informes e inscripciones: 098 256 032
URL:https://artexperienceuruguay.com/evento/textura-taller-de-imagenes-y-palabras-elisa-rios-y-cecilia-rios/
LOCATION:ACATRAS DEL MERCADO\, Yacaré 1595\, MONTEVIDEO\, Uruguay
CATEGORIES:Taller
ATTACH;FMTTYPE=image/jpeg:https://artexperienceuruguay.com/wp-content/uploads/2025/10/3-3.jpg
END:VEVENT
END:VCALENDAR