BEGIN:VCALENDAR
VERSION:2.0
PRODID:-//Art Experience Uruguay - ECPv6.15.20//NONSGML v1.0//EN
CALSCALE:GREGORIAN
METHOD:PUBLISH
X-ORIGINAL-URL:https://artexperienceuruguay.com
X-WR-CALDESC:Eventos para Art Experience Uruguay
REFRESH-INTERVAL;VALUE=DURATION:PT1H
X-Robots-Tag:noindex
X-PUBLISHED-TTL:PT1H
BEGIN:VTIMEZONE
TZID:America/Montevideo
BEGIN:STANDARD
TZOFFSETFROM:-0300
TZOFFSETTO:-0300
TZNAME:-03
DTSTART:20250101T000000
END:STANDARD
END:VTIMEZONE
BEGIN:VEVENT
DTSTART;VALUE=DATE:20260219
DTEND;VALUE=DATE:20260605
DTSTAMP:20260424T064232
CREATED:20260216T233648Z
LAST-MODIFIED:20260217T032439Z
UID:10002346-1771459200-1780617599@artexperienceuruguay.com
SUMMARY:FACULTAD DE ARTES UDELAR / INSCRIPCIONES 2026
DESCRIPTION:+ INFO \nhttps://www.artes.udelar.edu.uy/
URL:https://artexperienceuruguay.com/evento/facultad-de-artes-udelar-inscripciones-2026-2/
LOCATION:Facultad de Artes UDELAR\, Av. 18 de Julio 1772\, Montevideo\, Uruguay
CATEGORIES:Educación
ATTACH;FMTTYPE=image/png:https://artexperienceuruguay.com/wp-content/uploads/2026/02/26-1.png
END:VEVENT
BEGIN:VEVENT
DTSTART;VALUE=DATE:20260223
DTEND;VALUE=DATE:20260501
DTSTAMP:20260424T064232
CREATED:20260216T232519Z
LAST-MODIFIED:20260217T033240Z
UID:10002344-1771804800-1777593599@artexperienceuruguay.com
SUMMARY:ESTUDIAR ARTE EN URUGUAY / FACULTAD DE ARTES / UDELAR
DESCRIPTION:+ INFO: \nhttps://www.artes.udelar.edu.uy/
URL:https://artexperienceuruguay.com/evento/estudiar-arte-en-uruguay-facultad-de-artes-udelar/
LOCATION:Facultad de Artes UDELAR\, Av. 18 de Julio 1772\, Montevideo\, Uruguay
CATEGORIES:Educación
ATTACH;FMTTYPE=image/png:https://artexperienceuruguay.com/wp-content/uploads/2026/02/25-1.png
END:VEVENT
BEGIN:VEVENT
DTSTART;VALUE=DATE:20260224
DTEND;VALUE=DATE:20261201
DTSTAMP:20260424T064232
CREATED:20260225T015229Z
LAST-MODIFIED:20260225T015451Z
UID:10002412-1771891200-1796083199@artexperienceuruguay.com
SUMMARY:FOTOGRAFÍA Y CULTURA VISUAL / CARRERA EN EL KAVLIN
DESCRIPTION:Esta carrera integra fotografía\, diseño gráfico y audiovisual para que egreses con un perfil completo\, listo para el mercado laboral actual. \nAprendé a trabajar con imagen fija y en movimiento\, adaptar contenidos a distintas plataformas y desarrollar un lenguaje visual propio con aplicación real en proyectos profesionales. \nUna formación integral para insertarte en mercados creativos\, acá y en el mundo.
URL:https://artexperienceuruguay.com/evento/fotografia-y-cultura-visual-carrera-en-el-kavlin/
LOCATION:Kavlin Centro Cultural\, Calderón de la Barca esq. Shakespeare\, Punta del Este\, Uruguay
CATEGORIES:Educación
ATTACH;FMTTYPE=image/png:https://artexperienceuruguay.com/wp-content/uploads/2026/02/12-2.png
END:VEVENT
BEGIN:VEVENT
DTSTART;VALUE=DATE:20260225
DTEND;VALUE=DATE:20261225
DTSTAMP:20260424T064232
CREATED:20260225T015948Z
LAST-MODIFIED:20260225T015948Z
UID:10002413-1771977600-1798156799@artexperienceuruguay.com
SUMMARY:DIPLOMA CLAEH / INSCRIPCIONES ABIERTAS / Inicio Mayo
DESCRIPTION:INICIO: MARZO 2026
URL:https://artexperienceuruguay.com/evento/diploma-claeh-inscripciones-abiertas-inicio-mayo-2/
LOCATION:CLAEH\, Zelmar Michelini 1220\, Uruguay
CATEGORIES:Educación
ATTACH;FMTTYPE=image/png:https://artexperienceuruguay.com/wp-content/uploads/2026/01/4-3.png
END:VEVENT
BEGIN:VEVENT
DTSTART;VALUE=DATE:20260225
DTEND;VALUE=DATE:20261201
DTSTAMP:20260424T064232
CREATED:20260225T020153Z
LAST-MODIFIED:20260225T020153Z
UID:10002414-1771977600-1796083199@artexperienceuruguay.com
SUMMARY:DIPLOMA EN GESTIÓN CULTURAL / FUNDACIÓN ITAÚ
DESCRIPTION:Diploma en Gestión Cultural \nPróximo comienzo: 15 de abril 2026\nInscripciones: info@fundacionitau.com.uy \n¿Cómo transformar ideas en proyectos culturales con impacto? \nEl Diploma en Gestión Cultural te brinda herramientas estratégicas para liderar proyectos desde una mirada interdisciplinaria y crítica. Con 10 módulos y tutorías especializadas\, la formación profundiza en temas vinculados a la producción cultural\, políticas públicas\, planificación y elaboración de proyectos\, marketing cultural\, sostenibilidad\, equidad de género en cultura\, gestión financiera y derechos de autor\, entre otros abordajes. \nSe desarrolla en base a una alta permeabilidad entre la currícula y el acontecer cultural. Su objetivo es estimular una mirada crítica al quehacer cultural y dotar de instrumentos para actuar y proponer alternativas en una realidad compleja\, cambiante y de fronteras imprecisas entre distintas áreas del conocimiento. \n  \n+ INFO: \nhttps://fundacionitau.com.uy/
URL:https://artexperienceuruguay.com/evento/diploma-en-gestion-cultural-fundacion-itau-2/
LOCATION:FUNDACION ITAU\, MONTEVIDEO\, Uruguay
CATEGORIES:Educación
ATTACH;FMTTYPE=image/png:https://artexperienceuruguay.com/wp-content/uploads/2026/02/DOCUMENTO-UNICO-PARA-afiches-editados-para-cargar-a-la-web-18.png
END:VEVENT
BEGIN:VEVENT
DTSTART;TZID=America/Montevideo:20260301T080000
DTEND;TZID=America/Montevideo:20261101T170000
DTSTAMP:20260424T064232
CREATED:20260226T015221Z
LAST-MODIFIED:20260226T015221Z
UID:10002422-1772352000-1793552400@artexperienceuruguay.com
SUMMARY:Formación docente en educación plástica / Taller Malvín
DESCRIPTION:Inscripciones Abiertas! \nFormación Docente en Expresión Plástica \nComienzo Abril 2026 \nUna vez por semana\, 4 horas: 2 de Taller y 2 Teórico Pensamiento \nDos Grupos:\nMartes de 8.30 a 12.30 o Miércoles de 18.30 a 22.30 \nNo necesitás experiencia previa para participar \nConvocatoria a becas para estudiantes y docentes \nwww.tallermalvin.com \nWhatsApp : 098218769 \nDirección: Pocitos\, Arq Alfredo Baldomir 2435
URL:https://artexperienceuruguay.com/evento/formacion-docente-en-educacion-plastica-taller-malvin/
LOCATION:TALLER MALVÍN\, Arq Alfredo Baldomir 2435\, MONTEVIDEO\, Uruguay
CATEGORIES:Educación
ATTACH;FMTTYPE=image/png:https://artexperienceuruguay.com/wp-content/uploads/2026/02/16-1.png
END:VEVENT
BEGIN:VEVENT
DTSTART;VALUE=DATE:20260401
DTEND;VALUE=DATE:20261202
DTSTAMP:20260424T064232
CREATED:20260316T200408Z
LAST-MODIFIED:20260316T200801Z
UID:10007003-1775001600-1796169599@artexperienceuruguay.com
SUMMARY:Facultad de Artes | Seminario | Prácticas lúdico-artísticas y privación de libertad Laboratorio de experiencias desde la integralidad
DESCRIPTION:Seminario | Prácticas lúdico-artísticas y privación de libertad\nLaboratorio de experiencias desde la integralidad \nSe encuentran abiertas las inscripciones a este seminario dirigido a estudiantes de todas las carreras de la Udelar y del IFES\, que propone reflexionar y experimentar sobre el papel de las prácticas lúdicas y artísticas en contextos de privación de libertad. \n📅 Inicio: 10 de abril\n🕔 Día y horario: viernes de 17 a 19 h\n📍 Lugar: Facultad de Artes\n💻 Modalidad: presencial para estudiantes y virtual para estudiantes Udelar privados/as de libertad\n🎓 Créditos: 4\n👥 Cupos limitados
URL:https://artexperienceuruguay.com/evento/facultad-de-artes-seminario-practicas-ludico-artisticas-y-privacion-de-libertad-laboratorio-de-experiencias-desde-la-integralidad/
LOCATION:Facultad de Artes UDELAR\, Av. 18 de Julio 1772\, Montevideo\, Uruguay
CATEGORIES:Educación
ATTACH;FMTTYPE=image/png:https://artexperienceuruguay.com/wp-content/uploads/2026/03/19.png
END:VEVENT
END:VCALENDAR